View In:
ArcGIS JavaScript
ArcGIS Online Map Viewer
ArcGIS Earth
ArcGIS Pro
Service Description: This map is a hydrographic base map of the United States designed for display on a satellite imagery background at multiple scales (1:36,978,595 through 1:288,895, or Level 4 through Level 11). It features United States streams. In addition to hydrographic features, the map also displays cities and national and state boundaries. It was created from National Atlas 1:1 million-scale data, version 2, National Atlas 1:2 million-scale data, and North American Atlas 1:10 million-scale data.
Map Name: Layers
Legend
All Layers and Tables
Layers:
Description: This map is a hydrographic base map of the United States designed for display on a satellite imagery background at multiple scales (1:36,978,595 through 1:288,895, or Level 4 through Level 11). It features United States streams. In addition to hydrographic features, the map also displays cities and national and state boundaries. It was created from National Atlas 1:1 million-scale data, version 2, National Atlas 1:2 million-scale data, and North American Atlas 1:10 million-scale data.
Copyright Text:
Spatial Reference:
102100
(3857)
Single Fused Map Cache: true
Tile Info:
- Height: 256
- Width: 256
- DPI: 96
-
Levels of Detail: 24
-
Level ID: 1
[ Start Tile, End Tile ]
- Resolution: 78271.5169639999
- Scale: 2.95828763795777E8
-
Level ID: 2
[ Start Tile, End Tile ]
- Resolution: 39135.7584820001
- Scale: 1.47914381897889E8
-
Level ID: 3
[ Start Tile, End Tile ]
- Resolution: 19567.8792409999
- Scale: 7.3957190948944E7
-
Level ID: 4
[ Start Tile, End Tile ]
- Resolution: 9783.93962049996
- Scale: 3.6978595474472E7
-
Level ID: 5
[ Start Tile, End Tile ]
- Resolution: 4891.96981024998
- Scale: 1.8489297737236E7
- Format: PNG32
- Compression Quality: 0.0
- Origin: X: -2.0037508342787E7
Y: 2.0037508342787E7
- Spatial Reference: 102100
(3857)
Storage Info:
- Storage Format: esriMapCacheStorageModeCompactV2
- Packet Size: 128
Initial Extent:
XMin: -1.6334055272540472E7
YMin: 1891280.1935253944
XMax: -9495982.786188163
YMax: 9661341.11982465
Spatial Reference: 102100
Full Extent:
XMin: -1.99425923778E7
YMin: 1999472.3770999983
XMax: 2.00128471382E7
YMax: 1.1536683704300001E7
Spatial Reference: 102100
Units: esriMeters
Supported Image Format Types: PNG32,PNG24,PNG,JPG,DIB,TIFF,EMF,PS,PDF,GIF,SVG,SVGZ,BMP
Document Info:
Title: Hydrographic Base Map for Imagery
Author:
Comments: This map is a hydrographic base map of the United States designed for display on a satellite imagery background at multiple scales (1:36,978,595 through 1:288,895, or Level 4 through Level 11). It features United States streams. In addition to hydrographic features, the map also displays cities and national and state boundaries. It was created from National Atlas 1:1 million-scale data, version 2, National Atlas 1:2 million-scale data, and North American Atlas 1:10 million-scale data.
Subject: A hydrographic base map of the United States designed for display at multiple scales on a satellite imagery background.
Category:
Keywords:
AntialiasingMode: Fast
TextAntialiasingMode: Force
Supports Dynamic Layers: false
MaxRecordCount: 2000
MaxImageHeight: 4096
MaxImageWidth: 4096
Supported Query Formats: JSON, geoJSON, PBF
Supports Query Data Elements: true
Min Scale: 3.6978595474472E7
Max Scale: 288895.277144
Supports Datum Transformation: true
Child Resources:
Info
Supported Operations:
Export Map
Identify
QueryLegends
QueryDomains
Find
Return Updates