View In:
ArcGIS JavaScript
ArcGIS Online Map Viewer
ArcGIS Earth
ArcGIS Pro
Service Description: This map is a hydrographic base map of the United States designed for display on a terrain background at multiple scales (1:36,978,595 through 1:288,895, or Level 4 through Level 11). It features United States streams, water bodies, and major hydrologic regions. Stream gages are visible at a scale of 1:288,895. It also displays national, state, and county boundaries, as well as roads and cities. It was created from National Atlas 1:1 million-scale data, National Atlas 1:2 million-scale data, and North American Atlas 1:10 million-scale data. The hydrologic region boundaries are from the Watershed Boundary Dataset.
Map Name: Layers
Legend
All Layers and Tables
Dynamic Legend
Dynamic All Layers
Layers:
Description: This map is a hydrographic base map of the United States designed for display on a terrain background at multiple scales (1:36,978,595 through 1:288,895, or Level 4 through Level 11). It features United States streams, water bodies, and major hydrologic regions. Stream gages are visible at a scale of 1:288,895. It also displays national, state, and county boundaries, as well as roads and cities. It was created from National Atlas 1:1 million-scale data, National Atlas 1:2 million-scale data, and North American Atlas 1:10 million-scale data. The hydrologic region boundaries are from the Watershed Boundary Dataset.
Copyright Text:
Spatial Reference:
102100
(3857)
Single Fused Map Cache: true
Tile Info:
- Height: 256
- Width: 256
- DPI: 96
-
Levels of Detail: 20
-
Level ID: 0
[ Start Tile, End Tile ]
- Resolution: 156543.03392800014
- Scale: 5.91657527591555E8
-
Level ID: 1
[ Start Tile, End Tile ]
- Resolution: 78271.51696399994
- Scale: 2.95828763795777E8
-
Level ID: 2
[ Start Tile, End Tile ]
- Resolution: 39135.75848200009
- Scale: 1.47914381897889E8
-
Level ID: 3
[ Start Tile, End Tile ]
- Resolution: 19567.87924099992
- Scale: 7.3957190948944E7
-
Level ID: 4
[ Start Tile, End Tile ]
- Resolution: 9783.93962049996
- Scale: 3.6978595474472E7
-
Level ID: 5
[ Start Tile, End Tile ]
- Resolution: 4891.96981024998
- Scale: 1.8489297737236E7
- Format: PNG8
- Compression Quality: 0.0
- Origin: X: -2.0037508342787E7
Y: 2.0037508342787E7
- Spatial Reference: 102100
(3857)
Storage Info:
- Storage Format: esriMapCacheStorageModeCompactV2
- Packet Size: 128
Initial Extent:
XMin: -1.7816075469205476E7
YMin: 395854.0163727822
XMax: -4684463.068155252
YMax: 9035072.701274246
Spatial Reference: 102100
Full Extent:
XMin: -1.99425923778E7
YMin: 1999472.3770999983
XMax: 2.00128471382E7
YMax: 1.1536683704300001E7
Spatial Reference: 102100
Units: esriMeters
Supported Image Format Types: PNG32,PNG24,PNG,JPG,DIB,TIFF,EMF,PS,PDF,GIF,SVG,SVGZ,BMP
Document Info:
Title: Hydrographic Base Map with Stream Gages for Terrain
Author:
Comments: This map is a hydrographic base map of the United States designed for display on a terrain background at multiple scales (1:36,978,595 through 1:288,895, or Level 4 through Level 11). It features United States streams, water bodies, and major hydrologic regions. Stream gages are visible at a scale of 1:288,895. It also displays national, state, and county boundaries, as well as roads and cities. It was created from National Atlas 1:1 million-scale data, National Atlas 1:2 million-scale data, and North American Atlas 1:10 million-scale data. The hydrologic region boundaries are from the Watershed Boundary Dataset.
Subject: A hydrographic base map of the United States designed for display at multiple scales on a terrain background.
Category:
Keywords:
AntialiasingMode: Fast
TextAntialiasingMode: Force
Supports Dynamic Layers: true
MaxRecordCount: 2000
MaxImageHeight: 4096
MaxImageWidth: 4096
Supported Query Formats: JSON, geoJSON, PBF
Supports Query Data Elements: true
Min Scale: 3.6978595474472E7
Max Scale: 288895.277144
Supports Datum Transformation: true
Child Resources:
Info
Dynamic Layer
Supported Operations:
Export Map
Identify
QueryLegends
QueryDomains
Find
Return Updates