View In:
ArcGIS JavaScript
ArcGIS Online Map Viewer
ArcGIS Earth
ArcGIS Pro
Service Description: This map contains polygons representing water outside the coastline of the United States. It fills in the gaps between the coastline in the Hydrographic Base Map for Terrain map service (http://txpub.usgs.gov/arcgis/rest/services/Mapping/HydroBaseMapForTerrain/MapServer) and the coastline in the ESRI World Terrain Base map service (http://server.arcgisonline.com/ArcGIS/rest/services/World_Terrain_Base/MapServer) and creates a seamless transition between the two. The Ocean map layer was created from National Atlas One Million-Scale National Boundaries of the United States, version 2.
Map Name: Layers
Legend
All Layers and Tables
Layers:
Description: This map contains polygons representing water outside the coastline of the United States. It fills in the gaps between the coastline in the Hydrographic Base Map for Terrain map service (http://txpub.usgs.gov/arcgis/rest/services/Mapping/HydroBaseMapForTerrain/MapServer) and the coastline in the ESRI World Terrain Base map service (http://server.arcgisonline.com/ArcGIS/rest/services/World_Terrain_Base/MapServer) and creates a seamless transition between the two. The Ocean map layer was created from National Atlas One Million-Scale National Boundaries of the United States, version 2.
Copyright Text:
Spatial Reference:
102100
(3857)
Single Fused Map Cache: true
Tile Info:
- Height: 256
- Width: 256
- DPI: 96
-
Levels of Detail: 20
-
Level ID: 0
[ Start Tile, End Tile ]
- Resolution: 156543.03392800014
- Scale: 5.91657527591555E8
-
Level ID: 1
[ Start Tile, End Tile ]
- Resolution: 78271.51696399994
- Scale: 2.95828763795777E8
-
Level ID: 2
[ Start Tile, End Tile ]
- Resolution: 39135.75848200009
- Scale: 1.47914381897889E8
-
Level ID: 3
[ Start Tile, End Tile ]
- Resolution: 19567.87924099992
- Scale: 7.3957190948944E7
-
Level ID: 4
[ Start Tile, End Tile ]
- Resolution: 9783.93962049996
- Scale: 3.6978595474472E7
-
Level ID: 5
[ Start Tile, End Tile ]
- Resolution: 4891.96981024998
- Scale: 1.8489297737236E7
- Format: PNG8
- Compression Quality: 0.0
- Origin: X: -2.0037508342787E7
Y: 2.0037508342787E7
- Spatial Reference: 102100
(3857)
Storage Info:
- Storage Format: esriMapCacheStorageModeCompactV2
- Packet Size: 128
Initial Extent:
XMin: -1.7050155671803977E7
YMin: 484678.2659429037
XMax: -4781095.387697027
YMax: 8556428.452855371
Spatial Reference: 102100
Full Extent:
XMin: -1.99522640586E7
YMin: 1998812.4158000015
XMax: 2.0018428272E7
YMax: 1.1542739045699999E7
Spatial Reference: 102100
Units: esriMeters
Supported Image Format Types: PNG32,PNG24,PNG,JPG,DIB,TIFF,EMF,PS,PDF,GIF,SVG,SVGZ,BMP
Document Info:
Title: Ocean
Author:
Comments: This map contains polygons representing water outside the coastline of the United States. It fills in the gaps between the coastline in the Hydrographic Base Map for Terrain map service (http://txpub.usgs.gov/arcgis/rest/services/Mapping/HydroBaseMapForTerrain/MapServer) and the coastline in the ESRI World Terrain Base map service (http://server.arcgisonline.com/ArcGIS/rest/services/World_Terrain_Base/MapServer) and creates a seamless transition between the two. The Ocean map layer was created from National Atlas One Million-Scale National Boundaries of the United States, version 2.
Subject: Polygon of coastal waters around the United States.
Category:
Keywords:
AntialiasingMode: Fast
TextAntialiasingMode: Force
Supports Dynamic Layers: false
MaxRecordCount: 2000
MaxImageHeight: 4096
MaxImageWidth: 4096
Supported Query Formats: JSON, geoJSON, PBF
Supports Query Data Elements: true
Min Scale: 3.6978595474472E7
Max Scale: 288895.277144
Supports Datum Transformation: true
Child Resources:
Info
Supported Operations:
Export Map
Identify
QueryLegends
QueryDomains
Find
Return Updates